BEGIN:VCALENDAR
PRODID:-//github.com/rianjs/ical.net//NONSGML ical.net 4.0//EN
VERSION:2.0
BEGIN:VEVENT
DESCRIPTION:Az idei első veszprémi milongát egy rendhagyó helyszínen tartj
 uk az Európa Kulturális Fővárosa program megnyitó eseményéhez kapcsolódva
 .
DTEND:20230121T163000Z
DTSTAMP:20260419T230517Z
DTSTART:20230121T143000Z
GEO:47.094120;17.907290
LOCATION:Saiko No Sushi\n8200 Veszprém\, Óváros tér 24
SEQUENCE:0
SUMMARY:Milonga az Óváros téren
UID:56ccd8ec-471d-48ac-af69-1ed41d62d952
END:VEVENT
END:VCALENDAR
