BEGIN:VCALENDAR
PRODID:-//github.com/rianjs/ical.net//NONSGML ical.net 4.0//EN
VERSION:2.0
BEGIN:VEVENT
DESCRIPTION:Mit tehetünk\, ha Veszprém legapróbb zenei tehetségei unják a 
 zeneiskolai tanszaki hangversenyek egyforma\, szürke rutinját\, nem jön m
 ár az a bizonyos inspiráló\, kreativitással eltöltő adrenalinfröccs? Épít
 sünk egy koncerttermet\, a leghíresebbekhez hasonlót! Miniben!
DTEND:20231126T173000Z
DTSTAMP:20260420T092113Z
DTSTART:20231001T160000Z
GEO:47.092693;17.911835
LOCATION:Szent Imre Tér\n8200 Veszprém
SEQUENCE:0
SUMMARY:Mini Carnegie Hall 2023
UID:bd8ab9d1-109f-4a26-bc56-c28aadbcfc6c
END:VEVENT
END:VCALENDAR
