BEGIN:VCALENDAR
PRODID:-//github.com/rianjs/ical.net//NONSGML ical.net 4.0//EN
VERSION:2.0
BEGIN:VEVENT
DESCRIPTION:Csak természetesen! Fedezd fel a Kárpát-medencét!
DTEND:20260423T175000Z
DTSTAMP:20260419T135454Z
DTSTART:20260423T153000Z
GEO:47.095283;17.905218
LOCATION:FOTON Audiovizuális Centrum\n8200 Veszprém\, Vár utca 17
SEQUENCE:0
SUMMARY:MMA FILMKLUB VESZPRÉM - FOTON - 2026.04.23.
UID:dc4d072f-5ca9-4a8a-8733-5bd873fca63a
END:VEVENT
END:VCALENDAR
