BEGIN:VCALENDAR
PRODID:-//github.com/rianjs/ical.net//NONSGML ical.net 4.0//EN
VERSION:2.0
BEGIN:VEVENT
DESCRIPTION:Csak természetesen! Fedezd fel a Kárpát-medencét!
DTEND:20260430T175000Z
DTSTAMP:20260420T061534Z
DTSTART:20260430T153000Z
GEO:47.095283;17.905218
LOCATION:FOTON Audiovizuális Centrum\n8200 Veszprém\, Vár utca 17
SEQUENCE:0
SUMMARY:MMA FILMKLUB VESZPRÉM - FOTON - 2026.04.30.
UID:ee67571a-2c24-4173-ba8c-9f630fada03c
END:VEVENT
END:VCALENDAR
