BEGIN:VCALENDAR
PRODID:-//github.com/rianjs/ical.net//NONSGML ical.net 4.0//EN
VERSION:2.0
BEGIN:VEVENT
DESCRIPTION:Molekuláris gasztronómiai vacsora a Fricskában.
DTEND:20231028T193000Z
DTSTAMP:20260421T102912Z
DTSTART:20231028T180000Z
GEO:47.098569;17.900630
LOCATION:Fricska Étteremlakás\n8200 Veszprém\, Miklós utca 10
SEQUENCE:0
SUMMARY:Molekuláris gasztronómiai vacsora-Madách Gondolat Fesztivál
UID:db5d3274-6e02-4706-b960-fcae9f437331
END:VEVENT
END:VCALENDAR
