BEGIN:VCALENDAR
PRODID:-//github.com/rianjs/ical.net//NONSGML ical.net 4.0//EN
VERSION:2.0
BEGIN:VEVENT
DESCRIPTION:A képzőművészet\, építészet vagy formatervezés kedvelői egyará
 nt nagy klasszikusként tekintenek a Bauhausra. A drj project CENTURY. ide
 e bauhaus kiállításán 100 kortárs képzőművész reflektál a legendás művész
 eti iskola munkásságára.
DTEND;VALUE=DATE:20230304
DTSTAMP:20260420T101640Z
DTSTART;VALUE=DATE:20230120
GEO:47.096107;17.903515
LOCATION:Művészetek Háza Veszprém Dubniczay palota\n8200 Veszprém\, Vár ut
 ca 29
SEQUENCE:0
SUMMARY:Műgyűjtők napja - CENTURY. idee bauhaus.
UID:807ff9b8-1784-4862-acef-767c7f123389
END:VEVENT
END:VCALENDAR
