BEGIN:VCALENDAR
PRODID:-//github.com/rianjs/ical.net//NONSGML ical.net 4.0//EN
VERSION:2.0
BEGIN:VEVENT
DESCRIPTION:A képzőművészet\, építészet vagy formatervezés kedvelői egyará
 nt nagy klasszikusként tekintenek a Bauhausra. A drj project CENTURY. ide
 e bauhaus kiállításán 100 kortárs képzőművész reflektál a legendás művész
 eti iskola munkásságára.
DTEND:20230120T230000Z
DTSTAMP:20260419T231027Z
DTSTART:20230120T150000Z
GEO:47.096316;17.903419
LOCATION:Művészetek Háza Veszprém Dubniczay-palota\n8200 Veszprém\, Vár ut
 ca 29
SEQUENCE:0
SUMMARY:Műgyűjtők napja - CENTURY. idee bauhaus. kiállításmegnyitó
UID:941425eb-2163-47fd-b4cd-9695a5180207
END:VEVENT
END:VCALENDAR
