BEGIN:VCALENDAR
PRODID:-//github.com/rianjs/ical.net//NONSGML ical.net 4.0//EN
VERSION:2.0
BEGIN:VEVENT
DESCRIPTION:A SCHROTH COLLECTION művészeti gyűjtemény több mint 100 nemzet
 közi kortárs művészeti alkotása a németországi Soest városából egy különl
 eges kiállításra Veszprémbe utazik. A tárlat a Modern Képtár Vass Gyűjtem
 énnyel történő együttműködésben valósul meg.
DTEND;VALUE=DATE:20230304
DTSTAMP:20260419T231105Z
DTSTART;VALUE=DATE:20230120
GEO:47.096107;17.903515
LOCATION:Művészetek Háza Veszprém\n8200 Veszprém\, Vár utca 29
SEQUENCE:0
SUMMARY:Műgyűjtők napja - KULTUR.KONTAKT.KONKRET - Válogatás Carl-Jürgen S
 chroth műgyűjteményéből
UID:9638b888-9a07-4f60-9c3e-915ccbfe0a92
END:VEVENT
END:VCALENDAR
