BEGIN:VCALENDAR
PRODID:-//github.com/rianjs/ical.net//NONSGML ical.net 4.0//EN
VERSION:2.0
BEGIN:VEVENT
DESCRIPTION:A SCHROTH COLLECTION művészeti gyűjtemény több mint 100 nemzet
 közi kortárs művészeti alkotása a németországi Soest városából egy különl
 eges kiállításra Veszprémbe utazik. A tárlat a Modern Képtár Vass Gyűjtem
 énnyel történő együttműködésben valósul meg.
DTEND:20230120T230000Z
DTSTAMP:20260419T231151Z
DTSTART:20230120T150000Z
GEO:47.096107;17.903515
LOCATION:Művészetek Háza Veszprém - Dubniczay-palota\n8200 Veszprém\, Vár 
 utca 29
SEQUENCE:0
SUMMARY:Műgyűjtők napja - KULTUR.KONTAKT.KONKRET - Válogatás Carl-Jürgen S
 chroth műgyűjteményéből kiállításmegnyitó
UID:a98b264e-4e07-4dd7-b1ec-d36e711fe5f8
END:VEVENT
END:VCALENDAR
