BEGIN:VCALENDAR
PRODID:-//github.com/rianjs/ical.net//NONSGML ical.net 4.0//EN
VERSION:2.0
BEGIN:VEVENT
DESCRIPTION:A Klassz a pARTon! Fesztivál művészeti vezetőjeként Érdi Tamás
  évről évre világhírű zenészeket invitál a Balaton partjára\, ahol esténk
 ént magával ragadó koncertjeiket élvezheti a minőségi zenére vágyó közöns
 ég.
DTEND:20230714T190000Z
DTSTAMP:20260421T092958Z
DTSTART:20230714T170000Z
GEO:47.032185;18.110904
LOCATION:Széchenyi park\n8174 Balatonkenese
SEQUENCE:0
SUMMARY:MUSICIENS LIBRES és PIRÓK ZSÓFIA flamenco táncművész
UID:c58797b3-92c1-40f7-8af6-ad0e12009feb
END:VEVENT
END:VCALENDAR
