BEGIN:VCALENDAR
PRODID:-//github.com/rianjs/ical.net//NONSGML ical.net 4.0//EN
VERSION:2.0
BEGIN:VEVENT
DESCRIPTION:Nasser Kilada és zenekarának Coptic Roots ("Kopt Gyökerek") pr
 ojektje a kopt dallamok\, keleti hangok és ritmusok\, valamint a világzen
 e lenyűgöző zenei fúzióját kínálja. A latin\, a jazz\, az afrobeats és a 
 reagge elemei keverednek a kopt egyiptomi hangzáskultúrával.
DTEND:20231026T180000Z
DTSTAMP:20260421T092236Z
DTSTART:20231026T170000Z
GEO:47.092075;17.909137
LOCATION:Expresszó\n8200 Veszprém\, Brusznyai Árpád utca 2
SEQUENCE:0
SUMMARY:Nasser Kilada: Coptic Roots - Madách 200 Gondolat Fesztivál
UID:7c62266a-87ca-4569-9f99-d32510b87f85
END:VEVENT
END:VCALENDAR
