BEGIN:VCALENDAR
PRODID:-//github.com/rianjs/ical.net//NONSGML ical.net 4.0//EN
VERSION:2.0
BEGIN:VEVENT
DESCRIPTION:Lázár Ervin örökérvényű klasszikusát nézhetitek meg Vonyarcvas
 hegyen az Imre Sándor Szeretetszínház előadásában.
DTEND:20230802T180000Z
DTSTAMP:20260419T173917Z
DTSTART:20230802T160000Z
GEO:46.761546;17.315413
LOCATION:Erdő – Liget színpad \n8314 Vonyarcvashegy
SEQUENCE:0
SUMMARY:Négyszögletű kerekerdő - mesejáték
UID:fb599817-ab94-46e7-bd66-649068160ef3
END:VEVENT
END:VCALENDAR
