BEGIN:VCALENDAR
PRODID:-//github.com/rianjs/ical.net//NONSGML ical.net 4.0//EN
VERSION:2.0
BEGIN:VEVENT
DESCRIPTION:Neked8 Ensemble - Libertè! Connexitè! Divinitè! koncert\n
DTEND:20231027T193000Z
DTSTAMP:20260421T092106Z
DTSTART:20231027T183000Z
GEO:47.086204;17.908669
LOCATION:ActiCity Tánc – és Mozgásművészeti Központ\n8200 Veszprém\, Hóvir
 ág utca 1
SEQUENCE:0
SUMMARY:Neked8 Ensemble- Madách 200 Gondolat Fesztivál
UID:49d9f07a-b4ca-4c69-b074-f46ba22dffcd
END:VEVENT
END:VCALENDAR
