BEGIN:VCALENDAR
PRODID:-//github.com/rianjs/ical.net//NONSGML ical.net 4.0//EN
VERSION:2.0
BEGIN:VEVENT
DESCRIPTION:Hogyan lett a munka státuszszimbólum? Hogyan alakul a munka és
  a magánélet egyensúlya ma? Mi a helyzet a kiégés jelenségével? - Hajas B
 álint újságíró beszélgetése Lubinszki Mária pszichológussal és Pogátsa Zo
 ltán közgazdásszal\n
DTEND:20231027T163000Z
DTSTAMP:20260421T092136Z
DTSTART:20231027T150000Z
GEO:47.095283;17.905218
LOCATION:FOTON Audiovizuális Centrum\n8200 Veszprém\, Vár utca 17
SEQUENCE:0
SUMMARY:"Nem fáradok-e éjet és napot…"-Madách 200 Gondolat Fesztivál
UID:51dde3ae-897a-410d-876b-ed9cd2433f24
END:VEVENT
END:VCALENDAR
