BEGIN:VCALENDAR
PRODID:-//github.com/rianjs/ical.net//NONSGML ical.net 4.0//EN
VERSION:2.0
BEGIN:VEVENT
DESCRIPTION:Építettünk egy koncerttermet\, a leghíresebbhez hasonlót\, aho
 l bemutatkozhatnak a muzikális lurkók: a Mini Carnegie Hall színpadán a V
 eszprém-Bakony-Balaton régió zeneiskoláinak egy-egy tehetséges növendéke 
 ad koncertet!
DTEND:20231008T163000Z
DTSTAMP:20260420T091222Z
DTSTART:20231008T160000Z
GEO:47.093379;17.913227
LOCATION:Mini Carnegie Hall\n8200 Veszprém\, Szent Imre tér
SEQUENCE:0
SUMMARY:Németh Mihály Péter / Mini Carnegie Hall
UID:f73173a1-09b2-4fba-a78d-2842b80d31d2
END:VEVENT
END:VCALENDAR
