BEGIN:VCALENDAR
PRODID:-//github.com/rianjs/ical.net//NONSGML ical.net 4.0//EN
VERSION:2.0
BEGIN:VEVENT
DESCRIPTION:A Művészetek Háza Veszprém és a müncheni Galerie Biro együttmű
 ködésében 2023. szeptember 23-án első alkalommal nyílik meg nemzetközi ko
 rtárs ékszerművészeti kiállításunk. Veszprém mint Európa Kulturális Fővár
 osa köszönti az európai művészeket.
DTEND;VALUE=DATE:20231104
DTSTAMP:20260423T005139Z
DTSTART;VALUE=DATE:20230923
GEO:47.096107;17.903515
LOCATION:Művészetek Háza Veszprém\n8200 Veszprém\, Vár utca 29
SEQUENCE:0
SUMMARY:MÁMORT! / EURÓPAI KORTÁRS ÉKSZERMŰVÉSZET
UID:c46bce6c-856a-444d-8353-ca8ce483767a
END:VEVENT
END:VCALENDAR
