BEGIN:VCALENDAR
PRODID:-//github.com/rianjs/ical.net//NONSGML ical.net 4.0//EN
VERSION:2.0
BEGIN:VEVENT
DESCRIPTION:Az Organum Együttest Marcel Pérès alapította 1982-ben\, amelly
 el a középkori liturgikus repertoár módszeres feltárására vállalkozott.
DTEND:20230527T170000Z
DTSTAMP:20260421T114155Z
DTSTART:20230527T160000Z
GEO:47.251714;17.727971
LOCATION:Bakonybél\, Szent Mauríciusz Monostor\n8427 Bakonybél\, Szent Gel
 lért tér 1
SEQUENCE:0
SUMMARY:Organum Ensemble (FR) koncert / Kultháló
UID:0e338188-92e1-4b29-a830-8baf2c89e2ba
END:VEVENT
END:VCALENDAR
