BEGIN:VCALENDAR
PRODID:-//github.com/rianjs/ical.net//NONSGML ical.net 4.0//EN
VERSION:2.0
BEGIN:VEVENT
DESCRIPTION:David Deutsch Chemical scum that dream of distant quasars című
  TED-előadásának megtekintése és beszélgetés Szabó Róbert űrkutatóval. Mo
 derátor: András Ferenc filozófus\, a Pannon Egyetem oktatója
DTEND:20231028T143000Z
DTSTAMP:20260421T092406Z
DTSTART:20231028T130000Z
GEO:47.095283;17.905218
LOCATION:FOTON Audiovizuális Centrum\n8200 Veszprém\, Vár utca 17
SEQUENCE:0
SUMMARY:Őrjöngő röptünk\, hová vezet? - Madách 200 Gondolat Fesztivál
UID:3083b2c3-f6e2-4a30-a5ef-ff8005c70e39
END:VEVENT
END:VCALENDAR
