BEGIN:VCALENDAR
PRODID:-//github.com/rianjs/ical.net//NONSGML ical.net 4.0//EN
VERSION:2.0
BEGIN:VEVENT
DESCRIPTION:Koncert egyházi kórusművekből / közreműködik: Dankos Attila or
 gonaművész
DTEND:20231025T190000Z
DTSTAMP:20260421T092523Z
DTSTART:20231025T180000Z
GEO:47.086204;17.908669
LOCATION:ActiCity Tánc – és Mozgásművészeti Központ\n8200 Veszprém\, Hóvir
 ág utca 1
SEQUENCE:0
SUMMARY:Orlando Énekegyüttes - Madách 200 Gondolat Fesztivál
UID:a6bbfa6b-184c-4bc2-bfca-767f423f7f8c
END:VEVENT
END:VCALENDAR
