BEGIN:VCALENDAR
PRODID:-//github.com/rianjs/ical.net//NONSGML ical.net 4.0//EN
VERSION:2.0
BEGIN:VEVENT
DESCRIPTION:Amerikai filmdráma\, horror\, thriller\, angol nyelven\, magya
 r felirattal | Rendező: Ryan Coogler | Szereplők: Michael B. Jordan\, Hai
 lee Steinfeld | Teljes árú jegy: 2 550 Ft | Kedvezményes jegy: 2 150 Ft (
 6 éves korig\, diák\, nyugdíjas\; érvényes kedvezményre jogosító igazolvá
 ny bemutatása esetén)
DTEND:20260315T205500Z
DTSTAMP:20260421T095306Z
DTSTART:20260315T183000Z
GEO:47.095283;17.905218
LOCATION:FOTON Audiovizuális Centrum\n8200 Veszprém\, Vár utca 17
SEQUENCE:0
SUMMARY:OSCAR HÉT - BŰNÖSÖK - SINNERS - FOTON - 03.15.
UID:6668f5ca-f882-442d-86ff-e3287fedabeb
END:VEVENT
END:VCALENDAR
