BEGIN:VCALENDAR
PRODID:-//github.com/rianjs/ical.net//NONSGML ical.net 4.0//EN
VERSION:2.0
BEGIN:VEVENT
DESCRIPTION:Jó hangulat\, baráti beszélgetések\, közös reggelik\, tiszta\,
  minőségi és hazai alapanyagok. Bevásárlótáskával\, kosárral\, esetleg vá
 szontáskával. Mindenki másért és máshogy jár piacra\, de aki egyszer bele
 kóstol a piac ízébe…
DTEND:20230122T140000Z
DTSTAMP:20260419T230517Z
DTSTART:20230122T080000Z
GEO:47.093293;17.908201
LOCATION:Fortuna Udvar\n8200 Veszprém\, Fortuna udvar
SEQUENCE:0
SUMMARY:Óváros Piac - január 22.
UID:01b2eeec-47cb-4d67-9510-6a9ead406542
END:VEVENT
END:VCALENDAR
