BEGIN:VCALENDAR
PRODID:-//github.com/rianjs/ical.net//NONSGML ical.net 4.0//EN
VERSION:2.0
BEGIN:VEVENT
DESCRIPTION:Fedezd fel a Kárpát-medence népzenéjének varázsát a Pál István
  "Szalonna" és bandájával! A zenekar hivatásának tekinti e kulturális kin
 csek tanulását\, tanítását és megismertetését. Tapasztald meg a különlege
 s hangszerek és ének harmóniáját.
DTEND:20231228T225900Z
DTSTAMP:20260425T020957Z
DTSTART:20231228T183000Z
GEO:47.086204;17.908669
LOCATION:ActiCity Tánc – és Mozgásművészeti Központ\n8200 Veszprém\, Hóvir
 ág utca 1
SEQUENCE:0
SUMMARY:TELT HÁZ! - Pál István "Szalonna" és Bandája
UID:ee5488cf-789e-49cb-b2ea-2ef1a4c3b46f
END:VEVENT
END:VCALENDAR
