BEGIN:VCALENDAR
PRODID:-//github.com/rianjs/ical.net//NONSGML ical.net 4.0//EN
VERSION:2.0
BEGIN:VEVENT
DESCRIPTION:Rutinos utcazenész\, és régi ismerőse sok veszpréminek: Daniel
  Docherty újra nálunk\, és három estén át is zenél a Papírkutyában!
DTEND:20230314T193000Z
DTSTAMP:20260420T084145Z
DTSTART:20230314T180000Z
GEO:47.092912;17.907966
LOCATION:Papírkutya\n8200 Veszprém\, Szabadság tér 9
SEQUENCE:0
SUMMARY:Papírkutya koncert - Daniel Docherty (UK) - 1. nap
UID:1a7b2e15-bee9-414e-9dee-81ca5916fc09
END:VEVENT
END:VCALENDAR
