BEGIN:VCALENDAR
PRODID:-//github.com/rianjs/ical.net//NONSGML ical.net 4.0//EN
VERSION:2.0
BEGIN:VEVENT
DESCRIPTION:Gee és Jay egészen egyedi módon keveri a soul-t és a jazz-t\, 
 majd önti hozzá a hip-hop ütemeket.
DTEND:20230307T193000Z
DTSTAMP:20260420T142300Z
DTSTART:20230307T180000Z
GEO:47.092912;17.907966
LOCATION:Papírkutya\n8200 Veszprém\, Szabadság tér 9
SEQUENCE:0
SUMMARY:Papírkutya koncert - GeeJay (UK) - 1. nap
UID:1b58a207-db61-4e93-975b-62c617a5c9fb
END:VEVENT
END:VCALENDAR
