BEGIN:VCALENDAR
PRODID:-//github.com/rianjs/ical.net//NONSGML ical.net 4.0//EN
VERSION:2.0
BEGIN:VEVENT
DESCRIPTION:Kenyai és mongol\, irányi és spanyol pásztorok is csatlakoznak
  a Kárpát-medencében élő és dolgozó társaikhoz az Olaszfalui Pásztortalál
 kozó és Pásztorünnepen\, május 19-20-án.
DTEND;VALUE=DATE:20230520
DTSTAMP:20260421T105058Z
DTSTART;VALUE=DATE:20230519
GEO:47.238249;17.910799
LOCATION:Olaszfalu\, Zöldág Lovasudvar\n8414 Olaszfalu\, major utca 51
SEQUENCE:0
SUMMARY:Pásztorünnep / Nemzetközi Pásztorünnep és Népzenei Fesztivál
UID:070e17eb-d0ab-490f-b805-9ec0a5796641
END:VEVENT
END:VCALENDAR
