BEGIN:VCALENDAR
PRODID:-//github.com/rianjs/ical.net//NONSGML ical.net 4.0//EN
VERSION:2.0
BEGIN:VEVENT
DESCRIPTION:Petruska a magyar könnyűzenei szféra és az artpop unikális kép
 viselője. Egy szál akusztikus gitárosként\, virtuóz játékstílusával hiány
 érzet nélkül tölti be a nagyobb színpadokat is\, zenekarszerű megszólalás
 ával.
DTEND:20231028T180000Z
DTSTAMP:20260421T092359Z
DTSTART:20231028T170000Z
GEO:47.098569;17.900630
LOCATION:Fricska Étteremlakás\n8200 Veszprém\, Miklós utca 10
SEQUENCE:0
SUMMARY:Petruska András - Madách 200 Gondolat Fesztivál
UID:dc054da4-7974-4b9e-89b0-cdbfa9c4aa99
END:VEVENT
END:VCALENDAR
