BEGIN:VCALENDAR
PRODID:-//github.com/rianjs/ical.net//NONSGML ical.net 4.0//EN
VERSION:2.0
BEGIN:VEVENT
DESCRIPTION:A PomPom Party Magyarország egyetlen családi elektronikus zene
 i partysorozata. Egy hely\, ahol az egész család együtt bulizhat\; egy pa
 rti\, amelyen minőségi (felnőtt) zene szól\, mindezt gyerekbarát hangerőn
  és környezetben.
DTEND:20230121T120000Z
DTSTAMP:20260419T230300Z
DTSTART:20230121T090000Z
GEO:47.092075;17.909137
LOCATION:Expresszó Klub és Koncerttér\n8200 Veszprém\, Brusznyai Árpád utc
 a 2
SEQUENCE:0
SUMMARY:PomPom Party – DJ Palotai a Ragyogj! nyitóeseményen
UID:3b99365f-8adf-4214-bf87-844fef7fc70a
END:VEVENT
END:VCALENDAR
