BEGIN:VCALENDAR
PRODID:-//github.com/rianjs/ical.net//NONSGML ical.net 4.0//EN
VERSION:2.0
BEGIN:VEVENT
DESCRIPTION:Aktuális gazdasági kérdések az egyiptom\, az athéni és a római
  színben: Pogátsa Zoltán közgazdász és Grüll Tibor történész beszélgetése
 . Moderátor: András Ferenc filozófus\, a Pannon Egyetem oktatója
DTEND:20231026T163000Z
DTSTAMP:20260421T105157Z
DTSTART:20231026T150000Z
GEO:47.092075;17.909137
LOCATION:Hangvilla - Konferenciaterem\n8200 Veszprém\, Brusznyai Árpád utc
 a 2
SEQUENCE:0
SUMMARY:Profit a múltban: náluk hogy volt?-Madách Gondolat Fesztivál
UID:f584cfe9-7ea8-45ca-a53e-e719f3fe3eb7
END:VEVENT
END:VCALENDAR
