BEGIN:VCALENDAR
PRODID:-//github.com/rianjs/ical.net//NONSGML ical.net 4.0//EN
VERSION:2.0
BEGIN:VEVENT
DESCRIPTION:Az Állati színjáték a Független Színház előadása\, ami Valcz P
 éter színdarabja nyomán vidám\, interaktív családi előadás barátságról és
  színházról\, amin gyerekek és felnőttek egyaránt jól tudnak szórakozni.
DTSTAMP:20260420T113918Z
DTSTART;VALUE=DATE:20230526
GEO:46.620059;17.483712
LOCATION:Perjési Pajta\n8705 Somogyszentpál\, Árpád utca 17
SEQUENCE:0
SUMMARY:Állati színjáték színházi előadás / Pajta Program
UID:32e1b7ed-7b47-4edd-bff1-f369c948cb01
END:VEVENT
END:VCALENDAR
