BEGIN:VCALENDAR
PRODID:-//github.com/rianjs/ical.net//NONSGML ical.net 4.0//EN
VERSION:2.0
BEGIN:VEVENT
DESCRIPTION:Elérkezett az idő\, hogy közösen nyissuk meg a 2023-as Európa 
 Kulturális Fővárosa évadot egy felejthetetlen ünneppel! Gyere el Veszprém
 be 2023-január 21-én és légy részese a régió ragyogásának!
DTEND:20230121T200000Z
DTSTAMP:20260419T230552Z
DTSTART:20230121T190000Z
GEO:47.102809;17.909302
LOCATION:Vár – Óváros tér – Kossuth utca\nVeszprém
SEQUENCE:0
SUMMARY:Ragyogj! ünnepi nyitóműsor
UID:4833647a-e62b-4bb8-a380-16e511a24771
END:VEVENT
END:VCALENDAR
