BEGIN:VCALENDAR
PRODID:-//github.com/rianjs/ical.net//NONSGML ical.net 4.0//EN
VERSION:2.0
BEGIN:VEVENT
DESCRIPTION:Sofia Labropoulou görög és Nasser Kilada egyiptomi zenészekkel
  Karafiáth Orsolya beszélget Európa egyiptomi és hellén kulturális öröksé
 géről
DTEND:20231026T170000Z
DTSTAMP:20260421T092304Z
DTSTART:20231026T160000Z
GEO:47.092075;17.909137
LOCATION:Expresszó\n8200 Veszprém\, Brusznyai Árpád utca 2
SEQUENCE:0
SUMMARY:Régi istenek\, éltek-e még? - Madách 200 Gondolat Fesztivál
UID:ea240acc-40fe-4c31-81c7-4e4c3d77ea15
END:VEVENT
END:VCALENDAR
