BEGIN:VCALENDAR
PRODID:-//github.com/rianjs/ical.net//NONSGML ical.net 4.0//EN
VERSION:2.0
BEGIN:VEVENT
DESCRIPTION:Rockpalota fesztivál 2 helyszínen Várpalotán: a Thury-vár előt
 ti és mögötti téren. A két színpadon folyamatosak az amatőr és profizenek
 arok fellépései.
DTEND:20230513T000000Z
DTSTAMP:20260421T083312Z
DTSTART:20230512T150000Z
GEO:47.200564;18.161406
LOCATION:Várpalota\nVárpalota
SEQUENCE:0
SUMMARY:Régiós Show: Várpalota - Rock Palota Fesztivál
UID:6cb07717-8319-46f2-a292-0fda02d1d819
END:VEVENT
END:VCALENDAR
