BEGIN:VCALENDAR
PRODID:-//github.com/rianjs/ical.net//NONSGML ical.net 4.0//EN
VERSION:2.0
BEGIN:VEVENT
DESCRIPTION:Élőszereplős zenés mesejáték 45 percben. Színes díszletekkel é
 s jelmezekkel.
DTEND:20220823T140000Z
DTSTAMP:20260422T091219Z
DTSTART:20220823T130000Z
GEO:46.915157;17.458471
LOCATION:Zalahaláp\, Művelődési Ház\n8308 Zalahaláp\, Petőfi Sándor tér 9
SEQUENCE:0
SUMMARY:RENDHAGYÓ TEREK | Balaton Teátrum - Brémai muzsikusok
UID:6a53a398-7dc6-444f-8b24-560d779e1d59
END:VEVENT
END:VCALENDAR
