BEGIN:VCALENDAR
PRODID:-//github.com/rianjs/ical.net//NONSGML ical.net 4.0//EN
VERSION:2.0
BEGIN:VEVENT
DESCRIPTION:Lipták Gábor Aranyhíd című kötetében olvasható balatoni mondák
 \, mesék történetek közt szereplő „A tihanyi visszhang” címmel írt munkáj
 ának musical műfajban való feldolgozását viszi színpadra a Balaton Teátru
 m társulata.\n\n
DTEND:20220823T170000Z
DTSTAMP:20260422T091219Z
DTSTART:20220823T160000Z
GEO:46.915157;17.458471
LOCATION:Zalahaláp\, Művelődési Ház\n8308 Zalahaláp\, Petőfi Sándor tér 9
SEQUENCE:0
SUMMARY:RENDHAGYÓ TEREK |Balaton Teátrum-Rege a tihanyi visszhangról
UID:d918f02a-5875-4a4b-917f-0e9ffb1697d2
END:VEVENT
END:VCALENDAR
