BEGIN:VCALENDAR
PRODID:-//github.com/rianjs/ical.net//NONSGML ical.net 4.0//EN
VERSION:2.0
BEGIN:VEVENT
DESCRIPTION:Az elmagányosodás jelensége napjainkban. Lubinszki Mária pszic
 hológussal Szabó B. Eszter beszélget.
DTEND:20231029T151500Z
DTSTAMP:20260421T092334Z
DTSTART:20231029T140000Z
GEO:47.092912;17.907966
LOCATION:Papírkutya Kultúrbisztró\n8200 Veszprém\, Szabadság tér 9
SEQUENCE:0
SUMMARY:Robinson szindróma? - Madách 200 Gondolat Fesztivál
UID:48098165-8759-421a-af32-7ace7af7e163
END:VEVENT
END:VCALENDAR
