BEGIN:VCALENDAR
PRODID:-//github.com/rianjs/ical.net//NONSGML ical.net 4.0//EN
VERSION:2.0
BEGIN:VEVENT
DESCRIPTION:Veszprém és a Balaton-felvidék egyedülállóan gazdag középkori 
 örökséggel rendelkezik\, hiszen a régió településeit járva lépten-nyomon 
 kolostor-\, templom-\, kápolna- és várromokra bukkanunk.
DTEND:20230528T173000Z
DTSTAMP:20260421T105541Z
DTSTART:20230528T160000Z
GEO:46.915520;17.727348
LOCATION:Alsódörgicsei Boldogasszony templomrom\n8244 Dörgicse\, Temetői u
 tca 3
SEQUENCE:0
SUMMARY:Romkoncertek - Dörgicse - Kollár-Klemecz László: Öreg banda
UID:df8b8361-61fc-4761-abdf-e403e00a550a
END:VEVENT
END:VCALENDAR
