BEGIN:VCALENDAR
PRODID:-//github.com/rianjs/ical.net//NONSGML ical.net 4.0//EN
VERSION:2.0
BEGIN:VEVENT
DESCRIPTION:Sebastian Schub az Egyesült Királyság egyik legkiemelkedőbb fe
 ltörekvő művésze.
DTEND;VALUE=DATE:20230118
DTSTAMP:20260424T053957Z
DTSTART;VALUE=DATE:20230116
GEO:47.092912;17.907966
LOCATION:Papírkutya\n8200 Veszprém\, Szabadság tér 9
SEQUENCE:0
SUMMARY:Sebastian Schub (DE/GB) koncertek
UID:db6c305b-4fff-47e0-b8a5-7627712210a1
END:VEVENT
END:VCALENDAR
