BEGIN:VCALENDAR
PRODID:-//github.com/rianjs/ical.net//NONSGML ical.net 4.0//EN
VERSION:2.0
BEGIN:VEVENT
DESCRIPTION:Építettünk egy koncerttermet\, a leghíresebbhez hasonlót\, aho
 l bemutatkozhatnak a muzikális lurkók: a Mini Carnegie Hall színpadán a V
 eszprém-Bakony-Balaton régió zeneiskoláinak egy-egy tehetséges növendéke 
 ad koncertet!
DTEND:20231009T163000Z
DTSTAMP:20260420T091832Z
DTSTART:20231009T160000Z
GEO:47.093379;17.913227
LOCATION:Mini Carnegie Hall\n8200 Veszprém\, Szent Imre tér
SEQUENCE:0
SUMMARY:Serle Hanga Klára / Mini Carnegie Hall
UID:2eb675c9-f44f-46b4-a960-999b3fbf59d0
END:VEVENT
END:VCALENDAR
