BEGIN:VCALENDAR
PRODID:-//github.com/rianjs/ical.net//NONSGML ical.net 4.0//EN
VERSION:2.0
BEGIN:VEVENT
DESCRIPTION:SLOWWALK – lassú tájbejárásként definiált eseménysorozat célja
  egyrészt\, hogy lehetőséget biztosítson a tájélmény és ökológiai vonatko
 zásainak direkt\, közös\, élményszintű megtapasztalására\, másrészt hogy 
 művészeti eszközökön keresztül alternatív szemléletet nyújtson a Balaton-
 régió környezeti\, gazda
DTEND:20220611T160000Z
DTSTAMP:20260419T122858Z
DTSTART:20220611T090000Z
SEQUENCE:0
SUMMARY:SLOWWALK I.
UID:e3bffd55-68d4-48f4-9072-4c86ce487280
END:VEVENT
END:VCALENDAR
