BEGIN:VCALENDAR
PRODID:-//github.com/rianjs/ical.net//NONSGML ical.net 4.0//EN
VERSION:2.0
BEGIN:VEVENT
DESCRIPTION:Sofia Labropoulou görög kanun játékos\, zeneszerző és improviz
 átor\, aki a népzene\, a klasszikus oszmán\, a nyugati középkori\, a kísé
 rleti és a kortárs zene világának mesteri ötvözéséből alakított ki sajáto
 s hangzást.
DTEND:20231026T193000Z
DTSTAMP:20260421T091939Z
DTSTART:20231026T183000Z
GEO:47.092075;17.909137
LOCATION:Expresszó\n8200 Veszprém\, Brusznyai Árpád utca 2
SEQUENCE:0
SUMMARY:Sofia Labropoulou - Madách 200 Gondolat Fesztivál
UID:00a97417-ba90-4ff5-8f93-2c266ecae436
END:VEVENT
END:VCALENDAR
