BEGIN:VCALENDAR
PRODID:-//github.com/rianjs/ical.net//NONSGML ical.net 4.0//EN
VERSION:2.0
BEGIN:VEVENT
DESCRIPTION:A Spark! egy izgalmas utcaszínházi show\, amely a nagy hatású 
 dobolás\, dinamikus koreográfia és lenyűgöző látvány kombinációjával már 
 az egész világot meghódította. A hét fellépőből álló produkció folyamatos
 an mozgásban van\, ahol csak tudja\, bevonja a közönséget\, így bárhol ta
 lálkozhatsz velük a forg
DTEND:20230121T225900Z
DTSTAMP:20260419T230300Z
DTSTART:20230121T200000Z
GEO:47.102809;17.909302
LOCATION:Óváros tér - Kossuth utca\nVeszprém
SEQUENCE:0
SUMMARY:Spark!
UID:a96f9d7d-97ab-4329-bd4c-8dd3a1d95966
END:VEVENT
END:VCALENDAR
