BEGIN:VCALENDAR
PRODID:-//github.com/rianjs/ical.net//NONSGML ical.net 4.0//EN
VERSION:2.0
BEGIN:VEVENT
DESCRIPTION:Élvezd a szenvedélyes latin zenét és táncot a vérbeli latin am
 erikaikból és a híres Los Orangutanes tagjaiból álló zenekar jóvoltából!
DTEND:20231230T225900Z
DTSTAMP:20260425T021009Z
DTSTART:20231230T183000Z
GEO:47.086204;17.908669
LOCATION:ActiCity Tánc – és Mozgásművészeti Központ\n8200 Veszprém\, Hóvir
 ág utca 1
SEQUENCE:0
SUMMARY:Stefánia Allstars
UID:068f5762-293c-41eb-b7e7-8d85c193935a
END:VEVENT
END:VCALENDAR
