BEGIN:VCALENDAR
PRODID:-//github.com/rianjs/ical.net//NONSGML ical.net 4.0//EN
VERSION:2.0
BEGIN:VEVENT
DESCRIPTION:Magyar filmdráma | Rendező: Schwechtje Mihály | Mari Dorottya\
 , Jakab Juli\, Polgár Csaba | Mozinet | 89 perc | (16) | Teljes árú jegy:
  2 550 Ft | Kedvezményes jegy: 2 150 Ft (6 éves korig\, diák\, nyugdíjas\
 ; érvényes kedvezményre jogosító igazolvány bemutatása esetén)\n
DTEND:20250215T174000Z
DTSTAMP:20260421T082535Z
DTSTART:20250215T160000Z
GEO:47.095283;17.905218
LOCATION:FOTON Audiovizuális Centrum\n8200 Veszprém\, Vár utca 17
SEQUENCE:0
SUMMARY:SÜNVADÁSZAT – FOTON - 02.15.
UID:d2628039-fd08-4da7-93ea-5a4253ef017f
END:VEVENT
END:VCALENDAR
