BEGIN:VCALENDAR
PRODID:-//github.com/rianjs/ical.net//NONSGML ical.net 4.0//EN
VERSION:2.0
BEGIN:VEVENT
DESCRIPTION:Milyen vizek táplálják a Balatont és milyen tápanyagok találha
 tóak a tóban? Mi a természetes vízpartok szerepe\, miként függ össze a vá
 ltozó vízszint a tó vízminőségével és az algákkal?
DTEND:20230121T160000Z
DTSTAMP:20260419T230803Z
DTSTART:20230121T110000Z
GEO:47.093469;17.907065
LOCATION:Pekedli Szatócsbolt\n8200 Veszprém\, Rákóczi Ferenc utca 1
SEQUENCE:0
SUMMARY:SZABADONBALATON MINIBÁR - Balatorium projektbeharangozó
UID:b8dfcc1a-9d20-49c5-bf7a-e901ad71a343
END:VEVENT
END:VCALENDAR
