BEGIN:VCALENDAR
PRODID:-//github.com/rianjs/ical.net//NONSGML ical.net 4.0//EN
VERSION:2.0
BEGIN:VEVENT
DESCRIPTION:Milyennek képzeljük ma az igazi jóléti társadalmat? - Pléh Csa
 ba pszichológussal\, Pogátsa Zoltán közgazdásszal és Pogonyi Szabolcs fil
 ozófussal Szabó B. Eszter beszélget
DTEND:20231028T183000Z
DTSTAMP:20260421T103150Z
DTSTART:20231028T170000Z
GEO:47.095283;17.905218
LOCATION:FOTON Kávézó\n8200 Veszprém\, Vár utca 17
SEQUENCE:0
SUMMARY:Szép\, új világ? - Madách 200 Gondolat Fesztivál
UID:5d88ef5b-ac46-41e6-911a-de6c7cd8b6b3
END:VEVENT
END:VCALENDAR
