BEGIN:VCALENDAR
PRODID:-//github.com/rianjs/ical.net//NONSGML ical.net 4.0//EN
VERSION:2.0
BEGIN:VEVENT
DESCRIPTION:Falubéli magánházak\, nyaralók nyitják ki egy-egy estére a kap
 uikat\, mintegy kulturális teret biztosítva az előre regisztráló nézők sz
 ámára. Vendéglátó bárki lehet\, aki nyitott erre és izgalmasnak tartja a 
 feladatot\, illetve a kertje is alkalmas a nagy feladatra: egy színházi e
 st örökbefogadására.
DTEND;VALUE=DATE:20230513
DTSTAMP:20260420T200734Z
DTSTART;VALUE=DATE:20230512
GEO:46.916386;17.723131
LOCATION:Dörgicsén - több helyszínen\n8244 Dörgicse
SEQUENCE:0
SUMMARY:Színház a kertemben - Dörgicsei Merítkező / Pajta Program
UID:3bdd99b9-354e-4572-afd0-49d4e26cd550
END:VEVENT
END:VCALENDAR
