BEGIN:VCALENDAR
PRODID:-//github.com/rianjs/ical.net//NONSGML ical.net 4.0//EN
VERSION:2.0
BEGIN:VEVENT
DESCRIPTION:A kacsáknak mindig csak a szája jár? Hogy kerülnek szörnyek és
  sellők a Balatonba? Ki lesz a hős\, aki végül mindent legyőz? Minden tit
 okra fény derül\, ha megnézed a csodás meséből készült színdarabot\, ami 
 már könyv formájában is megjelent!
DTEND:20230805T100000Z
DTSTAMP:20260422T101046Z
DTSTART:20230805T090000Z
GEO:46.715365;17.320041
LOCATION:Balatonberényi strand\n8649 Balatonberény\, Balaton utca 12
SEQUENCE:0
SUMMARY:Szörnyek és Sellők színházi előadás - Balatonberény
UID:f38e30fd-6339-4228-b3d1-87f97e389cf4
END:VEVENT
END:VCALENDAR
