BEGIN:VCALENDAR
PRODID:-//github.com/rianjs/ical.net//NONSGML ical.net 4.0//EN
VERSION:2.0
BEGIN:VEVENT
DESCRIPTION:A kacsáknak mindig csak a szája jár? Hogy kerülnek szörnyek és
  sellők a Balatonba? Ki lesz a hős\, aki végül mindent legyőz? Minden tit
 okra fény derül\, ha megnézed a csodás meséből készült színdarabot\, ami 
 már könyv formájában is megjelent!
DTEND:20230806T150000Z
DTSTAMP:20260422T095344Z
DTSTART:20230806T140000Z
GEO:46.870196;17.686672
LOCATION:Zánkai strand\n8251 Zánka\, Rákóczi út 71
SEQUENCE:0
SUMMARY:Szörnyek és Sellők színházi előadás - Zánka
UID:1e6e8f17-c553-4f9a-82ba-11b34e917735
END:VEVENT
END:VCALENDAR
