BEGIN:VCALENDAR
PRODID:-//github.com/rianjs/ical.net//NONSGML ical.net 4.0//EN
VERSION:2.0
BEGIN:VEVENT
DESCRIPTION:Építettünk egy koncerttermet\, a leghíresebbhez hasonlót\, aho
 l bemutatkozhatnak a muzikális lurkók: a Mini Carnegie Hall színpadán a V
 eszprém-Bakony-Balaton régió zeneiskoláinak egy-egy tehetséges növendéke 
 ad koncertet!
DTEND:20231005T163000Z
DTSTAMP:20260420T092107Z
DTSTART:20231005T160000Z
GEO:47.093379;17.913227
LOCATION:Mini Carnegie Hall\n8200 Veszprém\, Szent Imre tér
SEQUENCE:0
SUMMARY:Szücs Eliza Lana / Mini Carnegie Hall
UID:956c51e6-ddeb-46a8-b386-6cc1883c2e00
END:VEVENT
END:VCALENDAR
