BEGIN:VCALENDAR
PRODID:-//github.com/rianjs/ical.net//NONSGML ical.net 4.0//EN
VERSION:2.0
BEGIN:VEVENT
DESCRIPTION:Beszélgetés az örök élet kérdéséről\, valamint a transz- és po
 szthumanizmusról Pléh Csaba pszichológussal\, Kocsis Krisztián neurobioló
 gussal és Darvas István főrabbival. Moderátor: Karafiáth Orsolya író\, kö
 ltő\, újságíró
DTEND:20231025T164500Z
DTSTAMP:20260421T104416Z
DTSTART:20231025T153000Z
GEO:47.095283;17.905218
LOCATION:FOTON Kávézó\n8200 Veszprém\, Vár utca 17
SEQUENCE:0
SUMMARY:Szűkre szabott éveink: csak ennyi?-Madách Gondolat Fesztivál
UID:40bdfaad-0673-4baa-8209-e12d6e5ab833
END:VEVENT
END:VCALENDAR
